BEGIN:VCALENDAR
VERSION:2.0
PRODID:-//Fibre Art Network - ECPv6.15.20//NONSGML v1.0//EN
CALSCALE:GREGORIAN
METHOD:PUBLISH
X-WR-CALNAME:Fibre Art Network
X-ORIGINAL-URL:https://www.fibreartnetwork.com
X-WR-CALDESC:Events for Fibre Art Network
REFRESH-INTERVAL;VALUE=DURATION:PT1H
X-Robots-Tag:noindex
X-PUBLISHED-TTL:PT1H
BEGIN:VTIMEZONE
TZID:America/Vancouver
BEGIN:DAYLIGHT
TZOFFSETFROM:-0800
TZOFFSETTO:-0700
TZNAME:PDT
DTSTART:20230312T100000
END:DAYLIGHT
BEGIN:STANDARD
TZOFFSETFROM:-0700
TZOFFSETTO:-0800
TZNAME:PST
DTSTART:20231105T090000
END:STANDARD
BEGIN:DAYLIGHT
TZOFFSETFROM:-0800
TZOFFSETTO:-0700
TZNAME:PDT
DTSTART:20240310T100000
END:DAYLIGHT
BEGIN:STANDARD
TZOFFSETFROM:-0700
TZOFFSETTO:-0800
TZNAME:PST
DTSTART:20241103T090000
END:STANDARD
BEGIN:DAYLIGHT
TZOFFSETFROM:-0800
TZOFFSETTO:-0700
TZNAME:PDT
DTSTART:20250309T100000
END:DAYLIGHT
BEGIN:STANDARD
TZOFFSETFROM:-0700
TZOFFSETTO:-0800
TZNAME:PST
DTSTART:20251102T090000
END:STANDARD
BEGIN:DAYLIGHT
TZOFFSETFROM:-0800
TZOFFSETTO:-0700
TZNAME:PDT
DTSTART:20260308T100000
END:DAYLIGHT
BEGIN:STANDARD
TZOFFSETFROM:-0700
TZOFFSETTO:-0800
TZNAME:PST
DTSTART:20261101T090000
END:STANDARD
BEGIN:DAYLIGHT
TZOFFSETFROM:-0800
TZOFFSETTO:-0700
TZNAME:PDT
DTSTART:20270314T100000
END:DAYLIGHT
BEGIN:STANDARD
TZOFFSETFROM:-0700
TZOFFSETTO:-0800
TZNAME:PST
DTSTART:20271107T090000
END:STANDARD
END:VTIMEZONE
BEGIN:VEVENT
DTSTART;TZID=America/Vancouver:20260412T140000
DTEND;TZID=America/Vancouver:20260412T160000
DTSTAMP:20260422T155716
CREATED:20251012T163126Z
LAST-MODIFIED:20251012T163126Z
UID:23517-1776002400-1776009600@www.fibreartnetwork.com
SUMMARY:I AM ... Opening Reception
DESCRIPTION:2 pm – 4 pm \nPilot Mound\, Manitoba
URL:https://www.fibreartnetwork.com/event/i-am-opening-reception-4/
LOCATION:United Community Arts\, 148 Moffat Ave\, Pilot Mound\, MB\, R0G 1P0\, Canada
CATEGORIES:I AM . . .
ATTACH;FMTTYPE=image/jpeg:https://www.fibreartnetwork.com/wp-content/uploads/2025/03/Home-Page-Logo-I-AM.jpeg
END:VEVENT
BEGIN:VEVENT
DTSTART;TZID=America/Vancouver:20260205T170000
DTEND;TZID=America/Vancouver:20260205T180000
DTSTAMP:20260422T155716
CREATED:20251119T163944Z
LAST-MODIFIED:20251119T163944Z
UID:23638-1770310800-1770314400@www.fibreartnetwork.com
SUMMARY:Narrow Works! Opening Reception
DESCRIPTION:
URL:https://www.fibreartnetwork.com/event/narrow-works-opening-reception-4/
LOCATION:Vermilion Public Library\, 5001 49 Avenue\, Vermillion\, AB\, Canada
CATEGORIES:Narrow Works!
ATTACH;FMTTYPE=image/jpeg:https://www.fibreartnetwork.com/wp-content/uploads/2024/03/Narrow-Works-Home-Page-Logo-480.jpeg
END:VEVENT
BEGIN:VEVENT
DTSTART;VALUE=DATE:20260201
DTEND;VALUE=DATE:20260401
DTSTAMP:20260422T155716
CREATED:20251129T013300Z
LAST-MODIFIED:20251129T013836Z
UID:23707-1769904000-1775001599@www.fibreartnetwork.com
SUMMARY:Narrow Works!
DESCRIPTION:
URL:https://www.fibreartnetwork.com/event/narrow-works-9/
LOCATION:Vermilion Public Library\, 5001 49 Avenue\, Vermillion\, AB\, Canada
ATTACH;FMTTYPE=image/jpeg:https://www.fibreartnetwork.com/wp-content/uploads/2024/03/Narrow-Works-Home-Page-Logo-480.jpeg
END:VEVENT
BEGIN:VEVENT
DTSTART;TZID=America/Vancouver:20251122T203000
DTEND;TZID=America/Vancouver:20251122T213000
DTSTAMP:20260422T155716
CREATED:20251112T172217Z
LAST-MODIFIED:20251112T172217Z
UID:23627-1763843400-1763847000@www.fibreartnetwork.com
SUMMARY:I AM ..... Opening Reception
DESCRIPTION:Estevan\, Saskatchewan
URL:https://www.fibreartnetwork.com/event/i-am-opening-reception-5/
LOCATION:Estevan Art Gallery\, 118-4th St.\, Estevan\, Saskatchewan\, S4A 0T4\, Canada
CATEGORIES:I AM . . .
ATTACH;FMTTYPE=image/jpeg:https://www.fibreartnetwork.com/wp-content/uploads/2025/03/Home-Page-Logo-I-AM.jpeg
END:VEVENT
BEGIN:VEVENT
DTSTART;VALUE=DATE:20251121
DTEND;VALUE=DATE:20260124
DTSTAMP:20260422T155716
CREATED:20251005T191051Z
LAST-MODIFIED:20251005T191051Z
UID:23496-1763683200-1769212799@www.fibreartnetwork.com
SUMMARY:I AM...
DESCRIPTION:Estevan\, Saskatchewan \nMon. – Fri. 10 am – 6 pm
URL:https://www.fibreartnetwork.com/event/i-am-6/
LOCATION:Estevan Art Gallery\, 118-4th St.\, Estevan\, Saskatchewan\, S4A 0T4\, Canada
CATEGORIES:I AM . . .
ATTACH;FMTTYPE=image/jpeg:https://www.fibreartnetwork.com/wp-content/uploads/2025/03/Home-Page-Logo-I-AM.jpeg
END:VEVENT
BEGIN:VEVENT
DTSTART;TZID=America/Vancouver:20251114T080000
DTEND;TZID=America/Vancouver:20251114T170000
DTSTAMP:20260422T155716
CREATED:20251119T163759Z
LAST-MODIFIED:20251119T163759Z
UID:23644-1763107200-1763139600@www.fibreartnetwork.com
SUMMARY:Narrow Works!
DESCRIPTION:Vermilion Public Library \n5001 49 Ave. \nVermilion\, AB \nMon – Thurs. 10 am – 6 pm \nFri. 10 am – 5 pm \nSat. 10 am – 3 pm
URL:https://www.fibreartnetwork.com/event/narrow-works-8/
LOCATION:Vermilion Public Library\, 5001 49 Avenue\, Vermillion\, AB\, Canada
CATEGORIES:Narrow Works!
ATTACH;FMTTYPE=image/jpeg:https://www.fibreartnetwork.com/wp-content/uploads/2024/03/Narrow-Works-Home-Page-Logo-480.jpeg
END:VEVENT
BEGIN:VEVENT
DTSTART;VALUE=DATE:20251030
DTEND;VALUE=DATE:20251220
DTSTAMP:20260422T155716
CREATED:20241020T022914Z
LAST-MODIFIED:20241020T023135Z
UID:21224-1761782400-1766188799@www.fibreartnetwork.com
SUMMARY:Resist
DESCRIPTION:Hours: Tuesday – Saturday 9am – 5pm; \nOpening Reception: October 30\, 2025\, \nSaint John\, New Brunswick
URL:https://www.fibreartnetwork.com/event/resist-4/
LOCATION:Saint John Arts Centre\, 20 Peel Plaza\, Saint John\, NB\, E2L 3G6\, Canada
CATEGORIES:Resist
ATTACH;FMTTYPE=image/jpeg:https://www.fibreartnetwork.com/wp-content/uploads/2022/12/Resist-Website-Logo-.jpg
END:VEVENT
BEGIN:VEVENT
DTSTART;VALUE=DATE:20251004
DTEND;VALUE=DATE:20251121
DTSTAMP:20260422T155716
CREATED:20240926T212118Z
LAST-MODIFIED:20250128T225534Z
UID:21047-1759536000-1763683199@www.fibreartnetwork.com
SUMMARY:Narrow Works!
DESCRIPTION:Hours: Mon – Fri 8:30am – 4:30pm; Langley\, BC
URL:https://www.fibreartnetwork.com/event/narrow-works-2/
LOCATION:Langley Civic Centre Gallery\, 20338 65th Avenue\, Langley\, BC\, V2Y 3J1\, Canada
CATEGORIES:Narrow Works!
ATTACH;FMTTYPE=image/jpeg:https://www.fibreartnetwork.com/wp-content/uploads/2024/03/Narrow-Works-Home-Page-Logo-480.jpeg
END:VEVENT
BEGIN:VEVENT
DTSTART;VALUE=DATE:20250916
DTEND;VALUE=DATE:20250920
DTSTAMP:20260422T155716
CREATED:20240418T233216Z
LAST-MODIFIED:20241112T194206Z
UID:19957-1757980800-1758326399@www.fibreartnetwork.com
SUMMARY:2025 FAN Conference
DESCRIPTION:This year’s FAN Conference is at Coast Bastion Hotel in Nanaimo. \n\n For information and to register\, login to Member’s Home and check the Conference Blog page.
URL:https://www.fibreartnetwork.com/event/2025-fan-conference/
LOCATION:AB
CATEGORIES:Conference
ATTACH;FMTTYPE=image/jpeg:https://www.fibreartnetwork.com/wp-content/uploads/2024/04/Conf-2025-Nanaimo-long.jpeg
ORGANIZER;CN="FAN Conference Odd Year":MAILTO:fanconferenceoddyear@gmail.com
END:VEVENT
BEGIN:VEVENT
DTSTART;VALUE=DATE:20250905
DTEND;VALUE=DATE:20250908
DTSTAMP:20260422T155716
CREATED:20250213T195153Z
LAST-MODIFIED:20250213T195153Z
UID:21963-1757030400-1757289599@www.fibreartnetwork.com
SUMMARY:I AM ...
DESCRIPTION:CREATE! Arts and Crafts Festival sponsored by ArtZone Sun Peaks\, Tourism Sun Peaks and Sun Peaks Resort \nSun Peaks Centre\, 3200 Village Way\, Sun Peaks\, BC \nOpen Fri Sept 6 1:30pm – 8pm\,   Sat Sept 7 and Sun Sept 8 9:30am – 8pm
URL:https://www.fibreartnetwork.com/event/i-am-2/
LOCATION:Sun Peaks Centre\, BC
CATEGORIES:I AM . . .
ATTACH;FMTTYPE=image/jpeg:https://www.fibreartnetwork.com/wp-content/uploads/2025/02/I-AM-Home-Page.jpg
END:VEVENT
BEGIN:VEVENT
DTSTART;VALUE=DATE:20250905
DTEND;VALUE=DATE:20250908
DTSTAMP:20260422T155716
CREATED:20250213T195130Z
LAST-MODIFIED:20250213T195130Z
UID:21958-1757030400-1757289599@www.fibreartnetwork.com
SUMMARY:Narrow Works!
DESCRIPTION:CREATE! Arts and Crafts Festival sponsored by ArtZone Sun Peaks\, Tourism Sun Peaks and Sun Peaks Resort \nSun Peaks Centre\, 3200 Village Way\, Sun Peaks\, BC \nOpen Fri Sep 5 1:30pm – 8pm\,   Sat Sept 6 and Sun Sept 7 9:30am – 8pm
URL:https://www.fibreartnetwork.com/event/narrow-works-7/
LOCATION:Sun Peaks Centre\, BC
CATEGORIES:Narrow Works!
ATTACH;FMTTYPE=image/jpeg:https://www.fibreartnetwork.com/wp-content/uploads/2024/03/Narrow-Works-Home-Page-Logo-480.jpeg
END:VEVENT
BEGIN:VEVENT
DTSTART;VALUE=DATE:20250808
DTEND;VALUE=DATE:20251011
DTSTAMP:20260422T155716
CREATED:20240620T000748Z
LAST-MODIFIED:20250610T212631Z
UID:20465-1754611200-1760140799@www.fibreartnetwork.com
SUMMARY:Resist
DESCRIPTION:Hours: Mon – Fri 9am – 4pm; \nPossible opening reception – TBA; \nFredericton\, New Brunswick
URL:https://www.fibreartnetwork.com/event/resist-3/
LOCATION:UNB Art Centre\, 9 Bailey Drive\, Fredericton\, NB
CATEGORIES:Resist
ATTACH;FMTTYPE=image/jpeg:https://www.fibreartnetwork.com/wp-content/uploads/2022/12/Resist-Website-Logo-.jpg
END:VEVENT
BEGIN:VEVENT
DTSTART;TZID=America/Vancouver:20250628T130000
DTEND;TZID=America/Vancouver:20250628T150000
DTSTAMP:20260422T155716
CREATED:20250213T195059Z
LAST-MODIFIED:20250221T065442Z
UID:22065-1751115600-1751122800@www.fibreartnetwork.com
SUMMARY:I AM ... Opening Reception
DESCRIPTION:Chilliwack\, BC
URL:https://www.fibreartnetwork.com/event/i-am-opening-reception/
LOCATION:O’Connor Group Art Gallery\, 9201 Corbould St\, Chilliwack\, BC\, V2P 4A6\, Canada
CATEGORIES:I AM . . .
ATTACH;FMTTYPE=image/jpeg:https://www.fibreartnetwork.com/wp-content/uploads/2025/02/I-AM-Home-Page.jpg
END:VEVENT
BEGIN:VEVENT
DTSTART;TZID=America/Vancouver:20250628T130000
DTEND;TZID=America/Vancouver:20250628T150000
DTSTAMP:20260422T155716
CREATED:20241020T025144Z
LAST-MODIFIED:20241020T025144Z
UID:21235-1751115600-1751122800@www.fibreartnetwork.com
SUMMARY:Narrow Works! Opening Reception
DESCRIPTION:Chilliwack\, BC
URL:https://www.fibreartnetwork.com/event/narrow-works-opening-reception-2/
LOCATION:O’Connor Group Art Gallery\, 9201 Corbould St\, Chilliwack\, BC\, V2P 4A6\, Canada
CATEGORIES:Narrow Works!
ATTACH;FMTTYPE=image/jpeg:https://www.fibreartnetwork.com/wp-content/uploads/2024/03/Narrow-Works-Home-Page-Logo-480.jpeg
END:VEVENT
BEGIN:VEVENT
DTSTART;VALUE=DATE:20250625
DTEND;VALUE=DATE:20250727
DTSTAMP:20260422T155716
CREATED:20250213T195026Z
LAST-MODIFIED:20250216T224229Z
UID:22060-1750809600-1753574399@www.fibreartnetwork.com
SUMMARY:I AM ...
DESCRIPTION:Hours: Monday – Friday 9am – 9pm\,\, Saturday/Sunday 9am – 5pm \nOpening reception: June 28\, 2025 \nChilliwack\, BC
URL:https://www.fibreartnetwork.com/event/i-am/
LOCATION:O’Connor Group Art Gallery\, 9201 Corbould St\, Chilliwack\, BC\, V2P 4A6\, Canada
CATEGORIES:I AM . . .
ATTACH;FMTTYPE=image/jpeg:https://www.fibreartnetwork.com/wp-content/uploads/2025/02/I-AM-Home-Page.jpg
END:VEVENT
BEGIN:VEVENT
DTSTART;VALUE=DATE:20250625
DTEND;VALUE=DATE:20250727
DTSTAMP:20260422T155716
CREATED:20241020T024011Z
LAST-MODIFIED:20241020T024011Z
UID:21232-1750809600-1753574399@www.fibreartnetwork.com
SUMMARY:Narrow Works!
DESCRIPTION:Hours: Monday – Friday 9am – 9pm\,\, Saturday/Sunday 9am – 5pm \nOpening reception: June 28\, 2025\, \nChilliwack\, BC
URL:https://www.fibreartnetwork.com/event/narrow-works-5/
LOCATION:O’Connor Group Art Gallery\, 9201 Corbould St\, Chilliwack\, BC\, V2P 4A6\, Canada
CATEGORIES:Narrow Works!
ATTACH;FMTTYPE=image/jpeg:https://www.fibreartnetwork.com/wp-content/uploads/2024/03/Narrow-Works-Home-Page-Logo-480.jpeg
END:VEVENT
BEGIN:VEVENT
DTSTART;TZID=America/Vancouver:20250501T173000
DTEND;TZID=America/Vancouver:20250501T173000
DTSTAMP:20260422T155716
CREATED:20250311T230549Z
LAST-MODIFIED:20250311T230549Z
UID:22188-1746120600-1746120600@www.fibreartnetwork.com
SUMMARY:I AM ... - Opening Reception
DESCRIPTION:Williams Lake\, BC
URL:https://www.fibreartnetwork.com/event/i-am-opening-reception-2/
LOCATION:Station House Gallery\, 1 MacKenzie Ave N\, Williams Lake\, BC\, V2G 1N4\, Canada
CATEGORIES:I AM . . .
ATTACH;FMTTYPE=image/jpeg:https://www.fibreartnetwork.com/wp-content/uploads/2025/02/I-AM-Home-Page.jpg
END:VEVENT
BEGIN:VEVENT
DTSTART;VALUE=DATE:20250501
DTEND;VALUE=DATE:20250525
DTSTAMP:20260422T155716
CREATED:20250311T230520Z
LAST-MODIFIED:20250311T230520Z
UID:22183-1746057600-1748131199@www.fibreartnetwork.com
SUMMARY:I AM ...
DESCRIPTION:Hours: Tuesday – Saturday 10:30am – 5:30pm \nOpening Reception: May 1\, 2025 5:30pm \nWilliams Lake\, BC
URL:https://www.fibreartnetwork.com/event/i-am-3/
LOCATION:Station House Gallery\, 1 MacKenzie Ave N\, Williams Lake\, BC\, V2G 1N4\, Canada
CATEGORIES:I AM . . .
ATTACH;FMTTYPE=image/jpeg:https://www.fibreartnetwork.com/wp-content/uploads/2025/02/I-AM-Home-Page.jpg
END:VEVENT
BEGIN:VEVENT
DTSTART;TZID=America/Vancouver:20250412T130000
DTEND;TZID=America/Vancouver:20250412T150000
DTSTAMP:20260422T155716
CREATED:20250213T192406Z
LAST-MODIFIED:20250213T192406Z
UID:22058-1744462800-1744470000@www.fibreartnetwork.com
SUMMARY:Narrow Works! - Opening Reception
DESCRIPTION:Peachland BC
URL:https://www.fibreartnetwork.com/event/narrow-works-opening-reception-3/
LOCATION:Peachland Art Gallery\, 5684 Beach Ave.\, Peachland\, BC\, V0H 1X6\, Canada
CATEGORIES:Narrow Works!
ATTACH;FMTTYPE=image/jpeg:https://www.fibreartnetwork.com/wp-content/uploads/2024/03/Narrow-Works-Home-Page-Logo-480.jpeg
END:VEVENT
BEGIN:VEVENT
DTSTART;VALUE=DATE:20250412
DTEND;VALUE=DATE:20250512
DTSTAMP:20260422T155716
CREATED:20250213T191339Z
LAST-MODIFIED:20250213T191339Z
UID:21511-1744416000-1747007999@www.fibreartnetwork.com
SUMMARY:Narrow Works!
DESCRIPTION:Hours: Wednesday – Sunday\, 10am – 4pm; Peachland BC
URL:https://www.fibreartnetwork.com/event/narrow-works-6/
LOCATION:Peachland Art Gallery\, 5684 Beach Ave.\, Peachland\, BC\, V0H 1X6\, Canada
CATEGORIES:Narrow Works!
ATTACH;FMTTYPE=image/jpeg:https://www.fibreartnetwork.com/wp-content/uploads/2024/03/Narrow-Works-Home-Page-Logo-480.jpeg
END:VEVENT
BEGIN:VEVENT
DTSTART;VALUE=DATE:20250317
DTEND;VALUE=DATE:20250713
DTSTAMP:20260422T155716
CREATED:20241121T154026Z
LAST-MODIFIED:20241121T154509Z
UID:21482-1742169600-1752364799@www.fibreartnetwork.com
SUMMARY:Resist
DESCRIPTION:Hours: Tues – Sat 10am – 5pm\, Thurs 10am – 8pm; Port Alberni\, BC
URL:https://www.fibreartnetwork.com/event/resist-5/
LOCATION:Alberni Valley Museum\, 4255 Wallace Street\, Port Alberni\, BC\, V9Y 3Y6\, Canada
CATEGORIES:Resist
ATTACH;FMTTYPE=image/jpeg:https://www.fibreartnetwork.com/wp-content/uploads/2022/12/Resist-Website-Logo-.jpg
END:VEVENT
BEGIN:VEVENT
DTSTART;VALUE=DATE:20250204
DTEND;VALUE=DATE:20250303
DTSTAMP:20260422T155716
CREATED:20240619T234637Z
LAST-MODIFIED:20240813T175037Z
UID:20458-1738627200-1740959999@www.fibreartnetwork.com
SUMMARY:Resist
DESCRIPTION:  \nHours: Tues – Sat 11AM – 3PM; \nOpening Reception Feb 8\, 2025; \nParksville\, BC \n 
URL:https://www.fibreartnetwork.com/event/resist-2/
LOCATION:McMillan Arts Centre\, 133 McMillan St\, Parksville\, BC\, V9P 1K7\, Canada
CATEGORIES:Resist
ATTACH;FMTTYPE=image/jpeg:https://www.fibreartnetwork.com/wp-content/uploads/2022/12/Resist-Website-Logo-.jpg
END:VEVENT
BEGIN:VEVENT
DTSTART;VALUE=DATE:20250106
DTEND;VALUE=DATE:20250301
DTSTAMP:20260422T155716
CREATED:20231210T221857Z
LAST-MODIFIED:20240813T175652Z
UID:18782-1736121600-1740787199@www.fibreartnetwork.com
SUMMARY:On the Bias
DESCRIPTION:Pilot Mound\, Manitoba
URL:https://www.fibreartnetwork.com/event/on-the-bias-5/
LOCATION:United Community Arts\, 148 Moffat Ave\, Pilot Mound\, MB\, R0G 1P0\, Canada
CATEGORIES:On The Bias
ATTACH;FMTTYPE=image/jpeg:https://www.fibreartnetwork.com/wp-content/uploads/2022/05/On-the-Bias-Home-Page.jpeg
END:VEVENT
BEGIN:VEVENT
DTSTART;VALUE=DATE:20240919
DTEND;VALUE=DATE:20240923
DTSTAMP:20260422T155716
CREATED:20240123T005433Z
LAST-MODIFIED:20240813T003430Z
UID:19076-1726704000-1727049599@www.fibreartnetwork.com
SUMMARY:2024 FAN Conference
DESCRIPTION:This year’s FAN Conference is at Coast Edmonton Plaza Hotel \n\n For information and to register\, login to Member’s Home and check the Conference Blog page.
URL:https://www.fibreartnetwork.com/event/2024-fan-conference/
LOCATION:AB
CATEGORIES:Conference
ATTACH;FMTTYPE=image/png:https://www.fibreartnetwork.com/wp-content/uploads/2024/01/Small-Edmonton-Logo.png
ORGANIZER;CN="FAN Conference Even Year":MAILTO:fanconfevenyr@gmail.com
END:VEVENT
BEGIN:VEVENT
DTSTART;VALUE=DATE:20240906
DTEND;VALUE=DATE:20240910
DTSTAMP:20260422T155716
CREATED:20240620T173026Z
LAST-MODIFIED:20240813T175918Z
UID:20462-1725580800-1725926399@www.fibreartnetwork.com
SUMMARY:Resist
DESCRIPTION:CREATE! Arts and Crafts Festival sponsored by ArtZone Sun Peaks\, Tourism Sun Peaks and Sun Peaks Resort \nSun Peaks Centre\, 3200 Village Way\, Sun Peaks\, BC \nOpen Fri Sept 6 1:30pm – 8pm\,   Sat Sept 7 and Sun Sept 8 9:30am – 8pm
URL:https://www.fibreartnetwork.com/event/resist-6/
LOCATION:Sun Peaks Centre\, BC
CATEGORIES:Resist
ATTACH;FMTTYPE=image/jpeg:https://www.fibreartnetwork.com/wp-content/uploads/2022/12/Resist-Website-Logo-.jpg
END:VEVENT
BEGIN:VEVENT
DTSTART;TZID=America/Vancouver:20240905T183000
DTEND;TZID=America/Vancouver:20240905T200000
DTSTAMP:20260422T155716
CREATED:20240129T061933Z
LAST-MODIFIED:20240813T180213Z
UID:19197-1725561000-1725566400@www.fibreartnetwork.com
SUMMARY:On the Bias Opening Reception
DESCRIPTION:St. Albert\, Alberta
URL:https://www.fibreartnetwork.com/event/on-the-bias-opening-reception-4/
LOCATION:VASA of St Albert\, 25 Sir Winston Churchill Ave.\, St. Albert\, AB\, T8N2S7\, Canada
CATEGORIES:On The Bias
ATTACH;FMTTYPE=image/jpeg:https://www.fibreartnetwork.com/wp-content/uploads/2022/05/On-the-Bias-Home-Page.jpeg
END:VEVENT
BEGIN:VEVENT
DTSTART;VALUE=DATE:20240903
DTEND;VALUE=DATE:20240929
DTSTAMP:20260422T155716
CREATED:20240129T061756Z
LAST-MODIFIED:20240813T180429Z
UID:19195-1725321600-1727567999@www.fibreartnetwork.com
SUMMARY:On the Bias
DESCRIPTION:Hours: Tues – Sat 11am – 4pm; \nOpening Reception: Sep 5\, 2024\, 6:30 – 8:00 pm \nSt. Albert\, Alberta
URL:https://www.fibreartnetwork.com/event/on-the-bias-6/
LOCATION:VASA of St Albert\, 25 Sir Winston Churchill Ave.\, St. Albert\, AB\, T8N2S7\, Canada
CATEGORIES:On The Bias
ATTACH;FMTTYPE=image/jpeg:https://www.fibreartnetwork.com/wp-content/uploads/2022/05/On-the-Bias-Home-Page.jpeg
END:VEVENT
BEGIN:VEVENT
DTSTART;VALUE=DATE:20240829
DTEND;VALUE=DATE:20241008
DTSTAMP:20260422T155716
CREATED:20240619T211737Z
LAST-MODIFIED:20240813T181724Z
UID:20452-1724889600-1728345599@www.fibreartnetwork.com
SUMMARY:Narrow Works!
DESCRIPTION:Mon-Sat 9am – 6pm\, Thurs 9:30 – 9pm\, Sun 12pm – 5pm; \nEdmonton\, Alberta
URL:https://www.fibreartnetwork.com/event/narrow-works/
LOCATION:Naess Gallery at Paint Spot\, 11032 81 Ave\, Edmonton\, AB
CATEGORIES:Narrow Works!
ATTACH;FMTTYPE=image/jpeg:https://www.fibreartnetwork.com/wp-content/uploads/2024/03/Narrow-Works-Home-Page-Logo-480.jpeg
ORGANIZER;CN="FAN Conference Even Year":MAILTO:fanconfevenyr@gmail.com
END:VEVENT
BEGIN:VEVENT
DTSTART;TZID=America/Vancouver:20240622T130000
DTEND;TZID=America/Vancouver:20240622T150000
DTSTAMP:20260422T155716
CREATED:20240118T222012Z
LAST-MODIFIED:20240617T191608Z
UID:19037-1719061200-1719068400@www.fibreartnetwork.com
SUMMARY:On the Bias - Opening Reception
DESCRIPTION:
URL:https://www.fibreartnetwork.com/event/on-the-bias-opening-reception-3/
LOCATION:Aldergrove Kinsmen Community Centre\, 26770 - 29th Ave.\, Aldergrove\, BC\, V4W3B8\, Canada
CATEGORIES:On The Bias
ATTACH;FMTTYPE=image/jpeg:https://www.fibreartnetwork.com/wp-content/uploads/2022/05/On-the-Bias-Home-Page.jpeg
ORGANIZER;CN="Langley Arts Council":MAILTO:galleries@langleyarts.ca
END:VEVENT
BEGIN:VEVENT
DTSTART;VALUE=DATE:20240619
DTEND;VALUE=DATE:20240623
DTSTAMP:20260422T155716
CREATED:20240619T210813Z
LAST-MODIFIED:20240619T210813Z
UID:20449-1718755200-1719100799@www.fibreartnetwork.com
SUMMARY:Resist
DESCRIPTION:
URL:https://www.fibreartnetwork.com/event/resist/
LOCATION:Quilt Canada\, Edmonton\, AB\, Canada
CATEGORIES:Resist
ATTACH;FMTTYPE=image/jpeg:https://www.fibreartnetwork.com/wp-content/uploads/2022/12/Resist-Website-Logo-.jpg
END:VEVENT
END:VCALENDAR