BEGIN:VCALENDAR
VERSION:2.0
PRODID:-//Fibre Art Network - ECPv6.15.20//NONSGML v1.0//EN
CALSCALE:GREGORIAN
METHOD:PUBLISH
X-WR-CALNAME:Fibre Art Network
X-ORIGINAL-URL:https://www.fibreartnetwork.com
X-WR-CALDESC:Events for Fibre Art Network
REFRESH-INTERVAL;VALUE=DURATION:PT1H
X-Robots-Tag:noindex
X-PUBLISHED-TTL:PT1H
BEGIN:VTIMEZONE
TZID:America/Vancouver
BEGIN:DAYLIGHT
TZOFFSETFROM:-0800
TZOFFSETTO:-0700
TZNAME:PDT
DTSTART:20210314T100000
END:DAYLIGHT
BEGIN:STANDARD
TZOFFSETFROM:-0700
TZOFFSETTO:-0800
TZNAME:PST
DTSTART:20211107T090000
END:STANDARD
BEGIN:DAYLIGHT
TZOFFSETFROM:-0800
TZOFFSETTO:-0700
TZNAME:PDT
DTSTART:20220313T100000
END:DAYLIGHT
BEGIN:STANDARD
TZOFFSETFROM:-0700
TZOFFSETTO:-0800
TZNAME:PST
DTSTART:20221106T090000
END:STANDARD
BEGIN:DAYLIGHT
TZOFFSETFROM:-0800
TZOFFSETTO:-0700
TZNAME:PDT
DTSTART:20230312T100000
END:DAYLIGHT
BEGIN:STANDARD
TZOFFSETFROM:-0700
TZOFFSETTO:-0800
TZNAME:PST
DTSTART:20231105T090000
END:STANDARD
BEGIN:DAYLIGHT
TZOFFSETFROM:-0800
TZOFFSETTO:-0700
TZNAME:PDT
DTSTART:20240310T100000
END:DAYLIGHT
BEGIN:STANDARD
TZOFFSETFROM:-0700
TZOFFSETTO:-0800
TZNAME:PST
DTSTART:20241103T090000
END:STANDARD
BEGIN:DAYLIGHT
TZOFFSETFROM:-0800
TZOFFSETTO:-0700
TZNAME:PDT
DTSTART:20250309T100000
END:DAYLIGHT
BEGIN:STANDARD
TZOFFSETFROM:-0700
TZOFFSETTO:-0800
TZNAME:PST
DTSTART:20251102T090000
END:STANDARD
END:VTIMEZONE
BEGIN:VTIMEZONE
TZID:America/Winnipeg
BEGIN:DAYLIGHT
TZOFFSETFROM:-0600
TZOFFSETTO:-0500
TZNAME:CDT
DTSTART:20220313T080000
END:DAYLIGHT
BEGIN:STANDARD
TZOFFSETFROM:-0500
TZOFFSETTO:-0600
TZNAME:CST
DTSTART:20221106T070000
END:STANDARD
BEGIN:DAYLIGHT
TZOFFSETFROM:-0600
TZOFFSETTO:-0500
TZNAME:CDT
DTSTART:20230312T080000
END:DAYLIGHT
BEGIN:STANDARD
TZOFFSETFROM:-0500
TZOFFSETTO:-0600
TZNAME:CST
DTSTART:20231105T070000
END:STANDARD
BEGIN:DAYLIGHT
TZOFFSETFROM:-0600
TZOFFSETTO:-0500
TZNAME:CDT
DTSTART:20240310T080000
END:DAYLIGHT
BEGIN:STANDARD
TZOFFSETFROM:-0500
TZOFFSETTO:-0600
TZNAME:CST
DTSTART:20241103T070000
END:STANDARD
BEGIN:DAYLIGHT
TZOFFSETFROM:-0600
TZOFFSETTO:-0500
TZNAME:CDT
DTSTART:20250309T080000
END:DAYLIGHT
BEGIN:STANDARD
TZOFFSETFROM:-0500
TZOFFSETTO:-0600
TZNAME:CST
DTSTART:20251102T070000
END:STANDARD
END:VTIMEZONE
BEGIN:VTIMEZONE
TZID:America/Denver
BEGIN:DAYLIGHT
TZOFFSETFROM:-0700
TZOFFSETTO:-0600
TZNAME:MDT
DTSTART:20210314T090000
END:DAYLIGHT
BEGIN:STANDARD
TZOFFSETFROM:-0600
TZOFFSETTO:-0700
TZNAME:MST
DTSTART:20211107T080000
END:STANDARD
BEGIN:DAYLIGHT
TZOFFSETFROM:-0700
TZOFFSETTO:-0600
TZNAME:MDT
DTSTART:20220313T090000
END:DAYLIGHT
BEGIN:STANDARD
TZOFFSETFROM:-0600
TZOFFSETTO:-0700
TZNAME:MST
DTSTART:20221106T080000
END:STANDARD
BEGIN:DAYLIGHT
TZOFFSETFROM:-0700
TZOFFSETTO:-0600
TZNAME:MDT
DTSTART:20230312T090000
END:DAYLIGHT
BEGIN:STANDARD
TZOFFSETFROM:-0600
TZOFFSETTO:-0700
TZNAME:MST
DTSTART:20231105T080000
END:STANDARD
BEGIN:DAYLIGHT
TZOFFSETFROM:-0700
TZOFFSETTO:-0600
TZNAME:MDT
DTSTART:20240310T090000
END:DAYLIGHT
BEGIN:STANDARD
TZOFFSETFROM:-0600
TZOFFSETTO:-0700
TZNAME:MST
DTSTART:20241103T080000
END:STANDARD
END:VTIMEZONE
BEGIN:VTIMEZONE
TZID:America/Edmonton
BEGIN:DAYLIGHT
TZOFFSETFROM:-0700
TZOFFSETTO:-0600
TZNAME:MDT
DTSTART:20210314T090000
END:DAYLIGHT
BEGIN:STANDARD
TZOFFSETFROM:-0600
TZOFFSETTO:-0700
TZNAME:MST
DTSTART:20211107T080000
END:STANDARD
BEGIN:DAYLIGHT
TZOFFSETFROM:-0700
TZOFFSETTO:-0600
TZNAME:MDT
DTSTART:20220313T090000
END:DAYLIGHT
BEGIN:STANDARD
TZOFFSETFROM:-0600
TZOFFSETTO:-0700
TZNAME:MST
DTSTART:20221106T080000
END:STANDARD
BEGIN:DAYLIGHT
TZOFFSETFROM:-0700
TZOFFSETTO:-0600
TZNAME:MDT
DTSTART:20230312T090000
END:DAYLIGHT
BEGIN:STANDARD
TZOFFSETFROM:-0600
TZOFFSETTO:-0700
TZNAME:MST
DTSTART:20231105T080000
END:STANDARD
END:VTIMEZONE
BEGIN:VTIMEZONE
TZID:UTC
BEGIN:STANDARD
TZOFFSETFROM:+0000
TZOFFSETTO:+0000
TZNAME:UTC
DTSTART:20210101T000000
END:STANDARD
END:VTIMEZONE
BEGIN:VEVENT
DTSTART;TZID=America/Vancouver:20240111T180000
DTEND;TZID=America/Vancouver:20240111T200000
DTSTAMP:20260423T173156
CREATED:20231109T205411Z
LAST-MODIFIED:20231109T205411Z
UID:18579-1704996000-1705003200@www.fibreartnetwork.com
SUMMARY:Chromatopia Closing Reception
DESCRIPTION:
URL:https://www.fibreartnetwork.com/event/chromatopia-closing-reception/
LOCATION:Lloydminster Museum\, 4207 44th St.\, Lloydminster\, SK\, S9V 0C6\, Canada
CATEGORIES:Chromatopia
ATTACH;FMTTYPE=image/jpeg:https://www.fibreartnetwork.com/wp-content/uploads/2022/05/Chromatopia_logo-event.jpeg
ORGANIZER;CN="Lloydminster Museum contact":MAILTO:hdurawa@lloydminster.ca
END:VEVENT
BEGIN:VEVENT
DTSTART;VALUE=DATE:20231026
DTEND;VALUE=DATE:20240114
DTSTAMP:20260423T173156
CREATED:20220705T012802Z
LAST-MODIFIED:20231109T205204Z
UID:14703-1698278400-1705190399@www.fibreartnetwork.com
SUMMARY:Chromatopia
DESCRIPTION:Gallery Hours: Mon – Sat\, 10am – 6pm \nClosing Reception: January 11\, 2024\, 6 – 8pm
URL:https://www.fibreartnetwork.com/event/chromatopia-5/
LOCATION:Lloydminster Museum\, 4207 44th St.\, Lloydminster\, SK\, S9V 0C6\, Canada
CATEGORIES:Chromatopia
ATTACH;FMTTYPE=image/jpeg:https://www.fibreartnetwork.com/wp-content/uploads/2021/12/Chromatopia_logo_jpg-1.jpeg
ORGANIZER;CN="Lloydminster Museum contact":MAILTO:hdurawa@lloydminster.ca
END:VEVENT
BEGIN:VEVENT
DTSTART;TZID=America/Vancouver:20230922T190000
DTEND;TZID=America/Vancouver:20230922T210000
DTSTAMP:20260423T173156
CREATED:20221002T063124Z
LAST-MODIFIED:20230309T005156Z
UID:15933-1695409200-1695416400@www.fibreartnetwork.com
SUMMARY:Resist - Opening Reception
DESCRIPTION:
URL:https://www.fibreartnetwork.com/event/opening-reception-3/
LOCATION:Penticton Art Gallery\, 199 Marina Way\, Penticton\, British Columbia\, V2A 1H5\, Canada
CATEGORIES:Resist
ORGANIZER;CN="Penticton Art Gallery":MAILTO:info@pentictonartgallery.com
END:VEVENT
BEGIN:VEVENT
DTSTART;VALUE=DATE:20230922
DTEND;VALUE=DATE:20231119
DTSTAMP:20260423T173156
CREATED:20221002T062024Z
LAST-MODIFIED:20221214T220048Z
UID:15927-1695340800-1700351999@www.fibreartnetwork.com
SUMMARY:Resist
DESCRIPTION:Opening Reception: September 22\, 2023 7 -9 pm \nGallery Hours: Tuesday – Friday\, 10 am – 5 pm
URL:https://www.fibreartnetwork.com/event/penticton-art-gallery/
LOCATION:Penticton Art Gallery\, 199 Marina Way\, Penticton\, British Columbia\, V2A 1H5\, Canada
CATEGORIES:Resist
ATTACH;FMTTYPE=image/jpeg:https://www.fibreartnetwork.com/wp-content/uploads/2022/04/Resist-Logo.jpeg
ORGANIZER;CN="Penticton Art Gallery":MAILTO:info@pentictonartgallery.com
END:VEVENT
BEGIN:VEVENT
DTSTART;VALUE=DATE:20230920
DTEND;VALUE=DATE:20230924
DTSTAMP:20260423T173156
CREATED:20230309T004926Z
LAST-MODIFIED:20230309T004926Z
UID:17264-1695168000-1695513599@www.fibreartnetwork.com
SUMMARY:2023 FAN Conference
DESCRIPTION:This year’s FAN Members Conference is at the Penticton Lakeside Resort
URL:https://www.fibreartnetwork.com/event/2023-fan-conference/
CATEGORIES:Conference
ATTACH;FMTTYPE=image/png:https://www.fibreartnetwork.com/wp-content/uploads/2022/09/Screen-Shot-2022-09-23-at-11.47.00-AM.png
ORGANIZER;CN="FAN Conference Even Year":MAILTO:fanconfevenyr@gmail.com
END:VEVENT
BEGIN:VEVENT
DTSTART;VALUE=DATE:20230801
DTEND;VALUE=DATE:20230929
DTSTAMP:20260423T173156
CREATED:20220309T232612Z
LAST-MODIFIED:20220725T175910Z
UID:5169-1690848000-1695945599@www.fibreartnetwork.com
SUMMARY:Chromatopia
DESCRIPTION:Opening Reception: t.b.a. \nGallery Hours: 10:00 am – 5:00 pm Tuesday – Friday
URL:https://www.fibreartnetwork.com/event/chromatopia-3/
LOCATION:Tiger Hills Art Association\, 103 Broadway St.\, Holland\, MB\, R0G 0X0\, Canada
CATEGORIES:Chromatopia
ATTACH;FMTTYPE=image/jpeg:https://www.fibreartnetwork.com/wp-content/uploads/2021/12/Chromatopia_logo_jpg-1.jpeg
ORGANIZER;CN="Tiger Hills Arts contact":MAILTO:tigerhillsarts@gmail.com
END:VEVENT
BEGIN:VEVENT
DTSTART;TZID=America/Vancouver:20230706T190000
DTEND;TZID=America/Vancouver:20230706T210000
DTSTAMP:20260423T173156
CREATED:20230227T025245Z
LAST-MODIFIED:20230309T005229Z
UID:17208-1688670000-1688677200@www.fibreartnetwork.com
SUMMARY:On the Bias Opening Reception
DESCRIPTION:
URL:https://www.fibreartnetwork.com/event/on-the-bias-opening-reception-2/
CATEGORIES:On The Bias
END:VEVENT
BEGIN:VEVENT
DTSTART;VALUE=DATE:20230704
DTEND;VALUE=DATE:20230730
DTSTAMP:20260423T173156
CREATED:20230227T024721Z
LAST-MODIFIED:20230227T024943Z
UID:17204-1688428800-1690675199@www.fibreartnetwork.com
SUMMARY:On the Bias
DESCRIPTION:Opening Reception: July 6\, 2023\, 7 – 9 PM \nGallery Hours: Tues – Fri 12 – 5\, Sat 10 – 3
URL:https://www.fibreartnetwork.com/event/on-the-bias-2/
LOCATION:Pembina Hills Arts Council\, 352 Stephen St\, Morden\, Manitoba\, R6M 1T5\, Canada
CATEGORIES:On The Bias
ATTACH;FMTTYPE=image/jpeg:https://www.fibreartnetwork.com/wp-content/uploads/2022/05/On-the-Bias-Home-Page.jpeg
END:VEVENT
BEGIN:VEVENT
DTSTART;TZID=America/Vancouver:20230610T130000
DTEND;TZID=America/Vancouver:20230610T150000
DTSTAMP:20260423T173156
CREATED:20230413T212726Z
LAST-MODIFIED:20230413T212726Z
UID:17437-1686402000-1686409200@www.fibreartnetwork.com
SUMMARY:Chromatopia Opening Reception
DESCRIPTION:
URL:https://www.fibreartnetwork.com/event/chromatopia-opening-reception/
LOCATION:Crows Nest Pass Public Art Gallery\, 14737 - 20th Ave.\, Blairmore\, AB\, T0K 0E0\, Canada
CATEGORIES:Chromatopia
ATTACH;FMTTYPE=image/jpeg:https://www.fibreartnetwork.com/wp-content/uploads/2022/05/Chromatopia_logo-event.jpeg
ORGANIZER;CN="Crowsnest Pass AG contact":MAILTO:cnpaaa@shaw.ca
END:VEVENT
BEGIN:VEVENT
DTSTART;VALUE=DATE:20230610
DTEND;VALUE=DATE:20230710
DTSTAMP:20260423T173156
CREATED:20220228T004547Z
LAST-MODIFIED:20220725T180035Z
UID:4370-1686355200-1688947199@www.fibreartnetwork.com
SUMMARY:Chromatopia
DESCRIPTION:Opening Reception: June 30th\, 1-3 pm \nGallery Hours: 12:00 to 4:00 pm Tuesday to Saturday.
URL:https://www.fibreartnetwork.com/event/chromatopia-2/
LOCATION:Crows Nest Pass Public Art Gallery\, 14737 - 20th Ave.\, Blairmore\, AB\, T0K 0E0\, Canada
CATEGORIES:Chromatopia
ATTACH;FMTTYPE=image/jpeg:https://www.fibreartnetwork.com/wp-content/uploads/2021/12/Chromatopia_logo_jpg-1.jpeg
ORGANIZER;CN="Crowsnest Pass AG contact":MAILTO:cnpaaa@shaw.ca
END:VEVENT
BEGIN:VEVENT
DTSTART;VALUE=DATE:20230307
DTEND;VALUE=DATE:20230402
DTSTAMP:20260423T173156
CREATED:20220228T002913Z
LAST-MODIFIED:20221123T020016Z
UID:4362-1678147200-1680393599@www.fibreartnetwork.com
SUMMARY:Threads of Hope
DESCRIPTION:Opening reception to be advised.
URL:https://www.fibreartnetwork.com/event/threads-of-hope-4/
LOCATION:Gallery Vertigo\, #102\, 3105 28th Ave.\, Vernon\, BC\, V1T 8Y4\, Canada
CATEGORIES:Threads of Hope
ATTACH;FMTTYPE=image/jpeg:https://www.fibreartnetwork.com/wp-content/uploads/2022/05/Threads-of-Hope-event.jpeg
ORGANIZER;CN="Gallery Vertigo Contact":MAILTO:galleryvertigonoaa@gmail.com
END:VEVENT
BEGIN:VEVENT
DTSTART;VALUE=DATE:20230301
DTEND;VALUE=DATE:20230527
DTSTAMP:20260423T173156
CREATED:20220624T001344Z
LAST-MODIFIED:20221123T015712Z
UID:14532-1677628800-1685145599@www.fibreartnetwork.com
SUMMARY:Chromatopia
DESCRIPTION:Opening Reception: March 4th\, time to be advised.
URL:https://www.fibreartnetwork.com/event/chromatopia-4/
LOCATION:Multicultural Heritage Centre\, 5411 - 51st St.\, Stony Plain\, AB\, T7Z 1X7\, Canada
CATEGORIES:Chromatopia
ATTACH;FMTTYPE=image/jpeg:https://www.fibreartnetwork.com/wp-content/uploads/2021/12/Chromatopia_logo_jpg-1.jpeg
ORGANIZER;CN="Multicultural Heritage Centre contact":MAILTO:artgallery@multicentre,org
END:VEVENT
BEGIN:VEVENT
DTSTART;TZID=America/Vancouver:20221217T130000
DTEND;TZID=America/Vancouver:20221217T150000
DTSTAMP:20260423T173156
CREATED:20220723T061702Z
LAST-MODIFIED:20220723T061702Z
UID:15272-1671282000-1671289200@www.fibreartnetwork.com
SUMMARY:Opening Reception
DESCRIPTION:
URL:https://www.fibreartnetwork.com/event/opening-reception/
LOCATION:O’Connor Group Art Gallery\, 9201 Corbould St\, Chilliwack\, BC\, V2P 4A6\, Canada
CATEGORIES:Threads of Hope
ORGANIZER;CN="O'Connor GAG contact":MAILTO:cvaa.gallerycoordinator@gmail.com
END:VEVENT
BEGIN:VEVENT
DTSTART;VALUE=DATE:20221214
DTEND;VALUE=DATE:20230115
DTSTAMP:20260423T173156
CREATED:20221123T015208Z
LAST-MODIFIED:20221201T181944Z
UID:16439-1670976000-1673740799@www.fibreartnetwork.com
SUMMARY:Threads of Hope
DESCRIPTION:
URL:https://www.fibreartnetwork.com/event/threads-of-hope-5/
LOCATION:O’Connor Group Art Gallery\, 9201 Corbould St\, Chilliwack\, BC\, V2P 4A6\, Canada
CATEGORIES:Threads of Hope
ATTACH;FMTTYPE=image/jpeg:https://www.fibreartnetwork.com/wp-content/uploads/2022/05/Threads-of-Hope-event.jpeg
ORGANIZER;CN="O'Connor GAG contact":MAILTO:cvaa.gallerycoordinator@gmail.com
END:VEVENT
BEGIN:VEVENT
DTSTART;VALUE=DATE:20220921
DTEND;VALUE=DATE:20220925
DTSTAMP:20260423T173156
CREATED:20220314T165655Z
LAST-MODIFIED:20221201T181904Z
UID:5392-1663718400-1664063999@www.fibreartnetwork.com
SUMMARY:2022 FAN Conference
DESCRIPTION:Questions? fanconference2@gmail.com
URL:https://www.fibreartnetwork.com/event/test-for-conference-registration/
CATEGORIES:Conference
ATTACH;FMTTYPE=image/jpeg:https://www.fibreartnetwork.com/wp-content/uploads/2022/03/Prairies-Mosaic-Logo.jpg
ORGANIZER;CN="FAN Conference Even Year":MAILTO:fanconfevenyr@gmail.com
END:VEVENT
BEGIN:VEVENT
DTSTART;TZID=America/Vancouver:20220903T130000
DTEND;TZID=America/Vancouver:20220903T150000
DTSTAMP:20260423T173156
CREATED:20220820T002533Z
LAST-MODIFIED:20220820T002533Z
UID:15581-1662210000-1662217200@www.fibreartnetwork.com
SUMMARY:Opening Reception
DESCRIPTION:
URL:https://www.fibreartnetwork.com/event/opening-reception-2/
LOCATION:Peachland Art Gallery\, 5684 Beach Ave.\, Peachland\, BC\, V0H 1X6\, Canada
CATEGORIES:Threads of Hope
ATTACH;FMTTYPE=image/jpeg:https://www.fibreartnetwork.com/wp-content/uploads/2022/05/Threads-of-Hope-event.jpeg
ORGANIZER;CN="Peachland AG contact":MAILTO:pcacgalleycoordinator@gmail.com
END:VEVENT
BEGIN:VEVENT
DTSTART;VALUE=DATE:20220903
DTEND;VALUE=DATE:20221011
DTSTAMP:20260423T173156
CREATED:20220228T001954Z
LAST-MODIFIED:20220725T180830Z
UID:4358-1662163200-1665446399@www.fibreartnetwork.com
SUMMARY:Threads of Hope
DESCRIPTION:Opening Reception – t.b.a. \nSee gallery website for hours.
URL:https://www.fibreartnetwork.com/event/threads-of-hope-3/
LOCATION:Peachland Art Gallery\, 5684 Beach Ave.\, Peachland\, BC\, V0H 1X6\, Canada
CATEGORIES:Threads of Hope
ATTACH;FMTTYPE=image/jpeg:https://www.fibreartnetwork.com/wp-content/uploads/2022/05/Threads-of-Hope-event.jpeg
ORGANIZER;CN="Peachland AG contact":MAILTO:pcacgalleycoordinator@gmail.com
END:VEVENT
BEGIN:VEVENT
DTSTART;TZID=America/Edmonton:20220723T100000
DTEND;TZID=America/Edmonton:20220723T113000
DTSTAMP:20260423T173156
CREATED:20220623T205005Z
LAST-MODIFIED:20220718T162146Z
UID:14445-1658570400-1658575800@www.fibreartnetwork.com
SUMMARY:On the Bias Virtual Talk
DESCRIPTION:Virtual talk ‘Breakdown Printing’ by Diana Bartelings at 10am MDT. \nRegister for this free events at On The Bias – Event Registration
URL:https://www.fibreartnetwork.com/event/on-the-bias-virtual-talk/
CATEGORIES:On The Bias
ORGANIZER;CN="ACUA contact":MAILTO:info@acuart.ca
END:VEVENT
BEGIN:VEVENT
DTSTART;TZID=America/Edmonton:20220719T140000
DTEND;TZID=America/Edmonton:20220719T153000
DTSTAMP:20260423T173156
CREATED:20220623T204216Z
LAST-MODIFIED:20220707T172410Z
UID:14437-1658239200-1658244600@www.fibreartnetwork.com
SUMMARY:On the Bias In-person Talk
DESCRIPTION:In-person talk ‘Searching for Dandelions’ by Yvonne Bilan Wallace. Register for this free events at On The Bias – Event Registration
URL:https://www.fibreartnetwork.com/event/on-the-bias-in-person-talk/
LOCATION:Alberta Council for the Ukranian Arts (ACUA)\, 9534 - 87 St.\, Edmonton\, Alberta\, T6C 3J1\, Canada
CATEGORIES:On The Bias
ORGANIZER;CN="ACUA contact":MAILTO:info@acuart.ca
END:VEVENT
BEGIN:VEVENT
DTSTART;TZID=America/Edmonton:20220707T180000
DTEND;TZID=America/Edmonton:20220707T200000
DTSTAMP:20260423T173156
CREATED:20220623T173351Z
LAST-MODIFIED:20220623T212430Z
UID:14411-1657216800-1657224000@www.fibreartnetwork.com
SUMMARY:On The Bias Opening Reception
DESCRIPTION:Thursday July 7\, 2022 – opening reception 6pm and in-person talk “Overview of On the Bias” by Judy Weiss at 6:30pm.  \nRegister for this free events at On The Bias – Event Registration
URL:https://www.fibreartnetwork.com/event/on-the-bias-opening-reception/
LOCATION:Alberta Council for the Ukranian Arts (ACUA)\, 9534 - 87 St.\, Edmonton\, Alberta\, T6C 3J1\, Canada
CATEGORIES:On The Bias
END:VEVENT
BEGIN:VEVENT
DTSTART;VALUE=DATE:20220706
DTEND;VALUE=DATE:20220731
DTSTAMP:20260423T173156
CREATED:20220526T161120Z
LAST-MODIFIED:20220725T180607Z
UID:12512-1657065600-1659225599@www.fibreartnetwork.com
SUMMARY:On The Bias
DESCRIPTION:Thursday July 7\, 2022 – opening reception 6pm and in-person talk “Overview of On the Bias” by Judy Weiss at 6:30pm \nTuesday\, July 19\, 2022 – in-person talk “Searching for Dandelions” by Yvonne Bilan Wallace at 2pm \nSaturday\, July 23\, 2022 – virtual talk “Breakdown Printing” by Diana Bartelings at 10am via Zoom \nRegister for this free events at On The Bias – Event Registration \n\n\nGallery hours: \n10:00 am – 4:00 pm Tues. – Thurs.\,\n2:00 pm – 7 pm Fri.\,\n11:00 am – 3:00 pm Sat.
URL:https://www.fibreartnetwork.com/event/on-the-bias/
LOCATION:Alberta Council for the Ukranian Arts (ACUA)\, 9534 - 87 St.\, Edmonton\, Alberta\, T6C 3J1\, Canada
CATEGORIES:On The Bias
ATTACH;FMTTYPE=image/jpeg:https://www.fibreartnetwork.com/wp-content/uploads/2022/05/On-the-Bias-logo-event.jpeg
ORGANIZER;CN="ACUA contact":MAILTO:info@acuart.ca
END:VEVENT
BEGIN:VEVENT
DTSTART;VALUE=DATE:20220615
DTEND;VALUE=DATE:20220619
DTSTAMP:20260423T173156
CREATED:20220228T003432Z
LAST-MODIFIED:20220725T175754Z
UID:4366-1655251200-1655596799@www.fibreartnetwork.com
SUMMARY:Chromatopia
DESCRIPTION:Quilt Canada 2022 – Open to attendees only during conference hours.
URL:https://www.fibreartnetwork.com/event/chromatopia/
LOCATION:Quilt Canada\, Edmonton\, AB\, Canada
CATEGORIES:Chromatopia
ATTACH;FMTTYPE=image/jpeg:https://www.fibreartnetwork.com/wp-content/uploads/2021/12/Chromatopia_logo_jpg-1.jpeg
END:VEVENT
BEGIN:VEVENT
DTSTART;VALUE=DATE:20220301
DTEND;VALUE=DATE:20220501
DTSTAMP:20260423T173156
CREATED:20220101T041859Z
LAST-MODIFIED:20220509T162934Z
UID:2351-1646092800-1651363199@www.fibreartnetwork.com
SUMMARY:2020 Vision
DESCRIPTION:Opening Reception: T.B.A. \nSee website for opening times.
URL:https://www.fibreartnetwork.com/event/2020-vision/
LOCATION:Tiger Hills Art Association\, 103 Broadway St.\, Holland\, MB\, R0G 0X0\, Canada
CATEGORIES:2020 Vision
ATTACH;FMTTYPE=image/jpeg:https://www.fibreartnetwork.com/wp-content/uploads/2021/12/2020-poster.jpg
ORGANIZER;CN="Tiger Hills Arts contact":MAILTO:tigerhillsarts@gmail.com
END:VEVENT
BEGIN:VEVENT
DTSTART;VALUE=DATE:20220114
DTEND;VALUE=DATE:20220424
DTSTAMP:20260423T173156
CREATED:20211229T074706Z
LAST-MODIFIED:20220509T162934Z
UID:2192-1642118400-1650758399@www.fibreartnetwork.com
SUMMARY:Chromatopia and For The Birds
DESCRIPTION:Opening Reception: Feb 5\, 2022\, 2-4pm \nFor The Birds Exhibit here ends April 11th\, 2022 while Chromatopia continues until April 23rd. \nSee gallery website for hours of operation.
URL:https://www.fibreartnetwork.com/event/forthebirds/
LOCATION:Gallery @ 501\, 501 Festival Ave.\, Sherwood Park\, Alberta\, T8A 4X3\, Canada
CATEGORIES:Chromatopia
ATTACH;FMTTYPE=image/jpeg:https://www.fibreartnetwork.com/wp-content/uploads/2021/12/Chromatopia_logo_jpg-1.jpeg
ORGANIZER;CN="Gallery @ 501 Contact":MAILTO:kris.miller@strathcona.ca
END:VEVENT
BEGIN:VEVENT
DTSTART;VALUE=DATE:20220111
DTEND;VALUE=DATE:20220328
DTSTAMP:20260423T173156
CREATED:20220125T215403Z
LAST-MODIFIED:20220725T180714Z
UID:2720-1641859200-1648425599@www.fibreartnetwork.com
SUMMARY:Threads of Hope
DESCRIPTION:Tuesday to Sunday\, 1 pm – 5 pm
URL:https://www.fibreartnetwork.com/event/threads-of-hope-2/
LOCATION:Thunder Bay Museum\, 425 Donald St.\, East\, Thunder Bay\, Ontario\, P7E 5V1\, Canada
CATEGORIES:Threads of Hope
ATTACH;FMTTYPE=image/jpeg:https://www.fibreartnetwork.com/wp-content/uploads/2022/05/Threads-of-Hope-event.jpeg
ORGANIZER;CN="Thunder Bay Museum contact":MAILTO:exhibits@thunderbaymuseum.com
END:VEVENT
END:VCALENDAR